
BEGIN:VCALENDAR
VERSION:2.0
PRODID:-//Date iCal//NONSGML kigkonsult.se iCalcreator 2.20.2//
METHOD:PUBLISH
X-WR-CALNAME;VALUE=TEXT:Government Business
BEGIN:VTIMEZONE
TZID:Europe/London
BEGIN:STANDARD
DTSTART:20261025T020000
TZOFFSETFROM:+0100
TZOFFSETTO:+0000
TZNAME:GMT
END:STANDARD
BEGIN:DAYLIGHT
DTSTART:20260329T010000
TZOFFSETFROM:+0000
TZOFFSETTO:+0100
TZNAME:BST
END:DAYLIGHT
END:VTIMEZONE
BEGIN:VEVENT
UID:calendar.25251.field_date.0@www.governmentbusiness.co.uk
DTSTAMP:20260422T182427Z
CREATED:20260422T133338Z
DESCRIPTION:Following another record-breaking year\, InstallerSHOW returns 
 to the NEC Birmingham from 23-25 June 2026\, set to be the biggest edition
  yet.\n\n\nVenue: NEC\, Birmingham
DTSTART;TZID=Europe/London:20260623T000000
DTEND;TZID=Europe/London:20260625T000000
LAST-MODIFIED:20260422T133338Z
LOCATION:NEC\, Birmingham
SUMMARY:InstallerSHOW 2026
URL;TYPE=URI:https://www.governmentbusiness.co.uk/events/installershow-2026
END:VEVENT
END:VCALENDAR
