
BEGIN:VCALENDAR
VERSION:2.0
PRODID:-//Date iCal//NONSGML kigkonsult.se iCalcreator 2.20.2//
METHOD:PUBLISH
X-WR-CALNAME;VALUE=TEXT:Government Business
BEGIN:VTIMEZONE
TZID:Europe/London
BEGIN:STANDARD
DTSTART:20261025T020000
TZOFFSETFROM:+0100
TZOFFSETTO:+0000
TZNAME:GMT
END:STANDARD
BEGIN:DAYLIGHT
DTSTART:20260329T010000
TZOFFSETFROM:+0000
TZOFFSETTO:+0100
TZNAME:BST
END:DAYLIGHT
END:VTIMEZONE
BEGIN:VEVENT
UID:calendar.25250.field_date.0@www.governmentbusiness.co.uk
DTSTAMP:20260422T172826Z
CREATED:20260422T132516Z
DESCRIPTION:Road Transport Expo (RTX) returns from 30 June to 2 July\, brin
 ging the road haulage and fleet community together for three days of truck
 s\, technology and real-world learning.\n\n\nVenue: NAEC Stoneleigh\, Warw
 ickshire\n\nEvent Website: roadtransportexpo.co.uk
DTSTART;TZID=Europe/London:20260630T000000
DTEND;TZID=Europe/London:20260702T000000
LAST-MODIFIED:20260422T132516Z
LOCATION:NAEC Stoneleigh\, Warwickshire
SUMMARY:Road Transport Expo (RTX)
URL;TYPE=URI:https://www.governmentbusiness.co.uk/events/road-transport-exp
 o-rtx
END:VEVENT
END:VCALENDAR
